BEGIN:VCALENDAR
VERSION:2.0
PRODID:-//Nebraska State Capitol - ECPv6.15.0.1//NONSGML v1.0//EN
CALSCALE:GREGORIAN
METHOD:PUBLISH
X-WR-CALNAME:Nebraska State Capitol
X-ORIGINAL-URL:https://capitol.nebraska.gov
X-WR-CALDESC:Events for Nebraska State Capitol
REFRESH-INTERVAL;VALUE=DURATION:PT1H
X-Robots-Tag:noindex
X-PUBLISHED-TTL:PT1H
BEGIN:VTIMEZONE
TZID:America/Chicago
BEGIN:DAYLIGHT
TZOFFSETFROM:-0600
TZOFFSETTO:-0500
TZNAME:CDT
DTSTART:20240310T080000
END:DAYLIGHT
BEGIN:STANDARD
TZOFFSETFROM:-0500
TZOFFSETTO:-0600
TZNAME:CST
DTSTART:20241103T070000
END:STANDARD
END:VTIMEZONE
BEGIN:VEVENT
DTSTART;TZID=America/Chicago:20241101T150000
DTEND;TZID=America/Chicago:20241101T163000
DTSTAMP:20260424T155158
CREATED:20240119T183046Z
LAST-MODIFIED:20240119T183046Z
UID:10000688-1730473200-1730478600@capitol.nebraska.gov
SUMMARY:Engineers' and Architects' Licensing Ceremony
DESCRIPTION:The Nebraska Board of Engineers and Architects will hold ceremony in the Capitol 2nd floor rotunda for first-time license Engineers and Architects at 3:00 p.m. on Friday November 1\, 2024.
URL:https://capitol.nebraska.gov/event/engineers-and-architects-licensing-ceremony/
LOCATION:2nd Floor Rotunda
CATEGORIES:Capitol Events
END:VEVENT
BEGIN:VEVENT
DTSTART;TZID=America/Chicago:20241110T140000
DTEND;TZID=America/Chicago:20241110T160000
DTSTAMP:20260424T155158
CREATED:20240923T202648Z
LAST-MODIFIED:20240923T202725Z
UID:10000723-1731247200-1731254400@capitol.nebraska.gov
SUMMARY:2024 Lincoln Veterans Parade
DESCRIPTION:The Lincoln Veterans Parade Group will hold the 2024 parade on K Street in front of the Capitol on Sunday\, November 10\, 2024\, from 12:00 – 4:00 p.m. The parade will begin at 21st and K Street and conclude at 14th and K Street. Announcers for the parade will be stationed on the Capitol’s north plaza\, K Street and the streets around the Capitol will be closed during the parade which will officially begin at 2:00 p.m.
URL:https://capitol.nebraska.gov/event/2024-lincoln-veterans-parade/
LOCATION:Capitol Grounds
CATEGORIES:Capitol Events
END:VEVENT
BEGIN:VEVENT
DTSTART;VALUE=DATE:20241111
DTEND;VALUE=DATE:20241112
DTSTAMP:20260424T155158
CREATED:20240806T171452Z
LAST-MODIFIED:20240806T171452Z
UID:10000716-1731283200-1731369599@capitol.nebraska.gov
SUMMARY:Veterans Day Recognition
DESCRIPTION:The Nebraska Department of Veterans Affairs will light the Capitol green in honor of Nebraska’s veterans. The Capitol tower will be illuminated with green light at dusk on November 11\, 2024.
URL:https://capitol.nebraska.gov/event/veterans-day-recognition/
LOCATION:Capitol Grounds
CATEGORIES:Capitol Events
END:VEVENT
BEGIN:VEVENT
DTSTART;TZID=America/Chicago:20241111T100000
DTEND;TZID=America/Chicago:20241111T170000
DTSTAMP:20260424T155158
CREATED:20240102T214123Z
LAST-MODIFIED:20240923T203014Z
UID:10000674-1731319200-1731344400@capitol.nebraska.gov
SUMMARY:Veterans Day
DESCRIPTION:The Nebraska State Capitol will be open for holiday schedule tours.  State offices will be closed. The Nebraska Department of Veterans Affairs will have the Capitol lit green to honor Nebraska’s veterans the evening of November 11.
URL:https://capitol.nebraska.gov/event/veterans-day-3/
CATEGORIES:Capitol Events
END:VEVENT
BEGIN:VEVENT
DTSTART;TZID=America/Chicago:20241116T103000
DTEND;TZID=America/Chicago:20241116T113000
DTSTAMP:20260424T155158
CREATED:20241114T231140Z
LAST-MODIFIED:20241114T231140Z
UID:10000724-1731753000-1731756600@capitol.nebraska.gov
SUMMARY:Remembrance Day Celebration
DESCRIPTION:The Sons of Union Veterans of the Civil War will stand vigil and have a program at the Lincoln Monument on the West Plaza of the Nebraska State Capitol at 10:30 a.m. on Saturday November 16\,2024. the remembrance is to commemorate the November 19 anniversary of Abraham Lincoln’s Gettysburg Address.
URL:https://capitol.nebraska.gov/event/remembrance-day-celebration/
LOCATION:Capitol Grounds
CATEGORIES:Capitol Events
END:VEVENT
BEGIN:VEVENT
DTSTART;TZID=America/Chicago:20241125T143000
DTEND;TZID=America/Chicago:20241125T160000
DTSTAMP:20260424T155158
CREATED:20240806T172729Z
LAST-MODIFIED:20240806T172729Z
UID:10000717-1732545000-1732550400@capitol.nebraska.gov
SUMMARY:Commissioner's Recognition of Student Excellence
DESCRIPTION:The Nebraska Department of Education Center for Student Excellence & Expanded Learning will host the annual student recognition ceremony in the second floor rotunda the Capitol on November 25\, 2024 at 2:30 p.m.
URL:https://capitol.nebraska.gov/event/commissioners-recognition-of-student-excellence-4/
LOCATION:2nd Floor Rotunda
CATEGORIES:Capitol Events
END:VEVENT
BEGIN:VEVENT
DTSTART;TZID=America/Chicago:20241128T080000
DTEND;TZID=America/Chicago:20241129T170000
DTSTAMP:20260424T155158
CREATED:20240102T214436Z
LAST-MODIFIED:20240102T214436Z
UID:10000675-1732780800-1732899600@capitol.nebraska.gov
SUMMARY:Capitol Closed Thanksgivng and Friday After
DESCRIPTION:The Capitol will be closed for the Thanksgiving holiday on Thursday Thanksgiving Day and the Friday after. The Capitol will open for tours on Saturday.
URL:https://capitol.nebraska.gov/event/capitol-closed-thanksgivng-and-friday-after/
CATEGORIES:Capitol Events
END:VEVENT
END:VCALENDAR