BEGIN:VCALENDAR
VERSION:2.0
PRODID:-//Nebraska State Capitol - ECPv6.15.0.1//NONSGML v1.0//EN
CALSCALE:GREGORIAN
METHOD:PUBLISH
X-ORIGINAL-URL:https://capitol.nebraska.gov
X-WR-CALDESC:Events for Nebraska State Capitol
REFRESH-INTERVAL;VALUE=DURATION:PT1H
X-Robots-Tag:noindex
X-PUBLISHED-TTL:PT1H
BEGIN:VTIMEZONE
TZID:America/Chicago
BEGIN:DAYLIGHT
TZOFFSETFROM:-0600
TZOFFSETTO:-0500
TZNAME:CDT
DTSTART:20250309T080000
END:DAYLIGHT
BEGIN:STANDARD
TZOFFSETFROM:-0500
TZOFFSETTO:-0600
TZNAME:CST
DTSTART:20251102T070000
END:STANDARD
END:VTIMEZONE
BEGIN:VEVENT
DTSTART;TZID=America/Chicago:20251219T100000
DTEND;TZID=America/Chicago:20251219T120000
DTSTAMP:20260421T051907
CREATED:20250822T161828Z
LAST-MODIFIED:20250822T161828Z
UID:10000816-1766138400-1766145600@capitol.nebraska.gov
SUMMARY:Patrol Camp 72 Graduation
DESCRIPTION:The Nebraska State Patrol will hold their Camp 72 Graduation Ceremony in the 2nd floor Rotunda of the Nebraska State Capitol on Friday December 19\, 2025 at 10:00 a.m.
URL:https://capitol.nebraska.gov/event/patrol-camp-72-graduation/
LOCATION:2nd Floor Rotunda
CATEGORIES:Capitol Events
END:VEVENT
END:VCALENDAR