BEGIN:VCALENDAR
VERSION:2.0
PRODID:-//Nebraska State Capitol - ECPv6.15.0.1//NONSGML v1.0//EN
CALSCALE:GREGORIAN
METHOD:PUBLISH
X-WR-CALNAME:Nebraska State Capitol
X-ORIGINAL-URL:https://capitol.nebraska.gov
X-WR-CALDESC:Events for Nebraska State Capitol
REFRESH-INTERVAL;VALUE=DURATION:PT1H
X-Robots-Tag:noindex
X-PUBLISHED-TTL:PT1H
BEGIN:VTIMEZONE
TZID:America/Chicago
BEGIN:DAYLIGHT
TZOFFSETFROM:-0600
TZOFFSETTO:-0500
TZNAME:CDT
DTSTART:20250309T080000
END:DAYLIGHT
BEGIN:STANDARD
TZOFFSETFROM:-0500
TZOFFSETTO:-0600
TZNAME:CST
DTSTART:20251102T070000
END:STANDARD
END:VTIMEZONE
BEGIN:VEVENT
DTSTART;TZID=America/Chicago:20251206T150000
DTEND;TZID=America/Chicago:20251206T163000
DTSTAMP:20260421T094843
CREATED:20251103T225139Z
LAST-MODIFIED:20251103T225139Z
UID:10000824-1765033200-1765038600@capitol.nebraska.gov
SUMMARY:Christmas Concert
DESCRIPTION:Union Adventist University will hold a concert in the 2nd floor rotunda on Saturday December 6 from 3:00 – 4:45 p.m.
URL:https://capitol.nebraska.gov/event/christmas-concert/
LOCATION:2nd Floor Rotunda
CATEGORIES:Capitol Events
END:VEVENT
END:VCALENDAR