BEGIN:VCALENDAR
VERSION:2.0
PRODID:-//Nebraska State Capitol - ECPv6.15.0.1//NONSGML v1.0//EN
CALSCALE:GREGORIAN
METHOD:PUBLISH
X-WR-CALNAME:Nebraska State Capitol
X-ORIGINAL-URL:https://capitol.nebraska.gov
X-WR-CALDESC:Events for Nebraska State Capitol
REFRESH-INTERVAL;VALUE=DURATION:PT1H
X-Robots-Tag:noindex
X-PUBLISHED-TTL:PT1H
BEGIN:VTIMEZONE
TZID:America/Chicago
BEGIN:DAYLIGHT
TZOFFSETFROM:-0600
TZOFFSETTO:-0500
TZNAME:CDT
DTSTART:20260308T080000
END:DAYLIGHT
BEGIN:STANDARD
TZOFFSETFROM:-0500
TZOFFSETTO:-0600
TZNAME:CST
DTSTART:20261101T070000
END:STANDARD
END:VTIMEZONE
BEGIN:VEVENT
DTSTART;VALUE=DATE:20260330
DTEND;VALUE=DATE:20260404
DTSTAMP:20260420T125819
CREATED:20260109T000121Z
LAST-MODIFIED:20260109T000150Z
UID:10000852-1774828800-1775260799@capitol.nebraska.gov
SUMMARY:Transgender Day of Visibility
DESCRIPTION:The Rainbow Parents of Nebraska will have a display in the first floor rotunda of the Capitol from March 30 – April 3\, 2026.
URL:https://capitol.nebraska.gov/event/transgender-day-of-visibility/
LOCATION:First Floor Display
CATEGORIES:Capitol Events
END:VEVENT
END:VCALENDAR