BEGIN:VCALENDAR
VERSION:2.0
PRODID:-//Nebraska State Capitol - ECPv6.15.0.1//NONSGML v1.0//EN
CALSCALE:GREGORIAN
METHOD:PUBLISH
X-WR-CALNAME:Nebraska State Capitol
X-ORIGINAL-URL:https://capitol.nebraska.gov
X-WR-CALDESC:Events for Nebraska State Capitol
REFRESH-INTERVAL;VALUE=DURATION:PT1H
X-Robots-Tag:noindex
X-PUBLISHED-TTL:PT1H
BEGIN:VTIMEZONE
TZID:America/Chicago
BEGIN:DAYLIGHT
TZOFFSETFROM:-0600
TZOFFSETTO:-0500
TZNAME:CDT
DTSTART:20230312T080000
END:DAYLIGHT
BEGIN:STANDARD
TZOFFSETFROM:-0500
TZOFFSETTO:-0600
TZNAME:CST
DTSTART:20231105T070000
END:STANDARD
END:VTIMEZONE
BEGIN:VEVENT
DTSTART;TZID=America/Chicago:20230925T090000
DTEND;TZID=America/Chicago:20230925T140000
DTSTAMP:20260423T143126
CREATED:20230919T182816Z
LAST-MODIFIED:20230919T182816Z
UID:10000616-1695632400-1695650400@capitol.nebraska.gov
SUMMARY:South Sudanese Human Rights Rally
DESCRIPTION:Members of the Nebraska\, Iowa and Minnesota Sudanese communities will gather on the north plaza of the Nebraska State Capitol on Monday September 25\, 2023 during the morning to show support for the civil rights of the people of South Sudan.
URL:https://capitol.nebraska.gov/event/south-sudanese-human-rights-rally/
LOCATION:Capitol Grounds
CATEGORIES:Capitol Events
END:VEVENT
END:VCALENDAR