BEGIN:VCALENDAR
VERSION:2.0
PRODID:-//Nebraska State Capitol - ECPv6.15.0.1//NONSGML v1.0//EN
CALSCALE:GREGORIAN
METHOD:PUBLISH
X-ORIGINAL-URL:https://capitol.nebraska.gov
X-WR-CALDESC:Events for Nebraska State Capitol
REFRESH-INTERVAL;VALUE=DURATION:PT1H
X-Robots-Tag:noindex
X-PUBLISHED-TTL:PT1H
BEGIN:VTIMEZONE
TZID:America/Chicago
BEGIN:DAYLIGHT
TZOFFSETFROM:-0600
TZOFFSETTO:-0500
TZNAME:CDT
DTSTART:20230312T080000
END:DAYLIGHT
BEGIN:STANDARD
TZOFFSETFROM:-0500
TZOFFSETTO:-0600
TZNAME:CST
DTSTART:20231105T070000
END:STANDARD
END:VTIMEZONE
BEGIN:VEVENT
DTSTART;TZID=America/Chicago:20230220T100000
DTEND;TZID=America/Chicago:20230220T170000
DTSTAMP:20260423T130650
CREATED:20230123T223635Z
LAST-MODIFIED:20230123T223635Z
UID:10000583-1676887200-1676912400@capitol.nebraska.gov
SUMMARY:Presidents' Day
DESCRIPTION:The Capitol will be open for tours on February 20\, 2023 from 10:00 a.m. to 5:00 p.m. State offices will be closed.
URL:https://capitol.nebraska.gov/event/presidents-day/
CATEGORIES:Capitol Events
END:VEVENT
END:VCALENDAR